BEGIN:VCALENDAR
VERSION:2.0
PRODID:-//https://www.kab-wuerzburg.de///NONSGML kigkonsult.se iCalcreator 2.10.15//
METHOD:PUBLISH
BEGIN:VEVENT
UID:20260421T103804CEST-4605vracBV@https://www.kab-wuerzburg.de/
DTSTAMP:20260421T083804Z
DESCRIPTION:Begrüßungsrunde mit alten und neuen Gesichtern. -sehen: Bericht
  aus Tansania mit Bildern und Statements zu Corona.urteilen: Impuls für me
 in Engagement.handeln: Ausblick für weitere gemeinsame Aktivitäten.Angebot
 : Technikcheck mit Miniprogramm oder Chrome-Browser ab 16 Uhr.Twende Tansa
 nia ist ein fortlaufendes Vorhaben im Rahmen der Partnerschaft von KAB &am
 p\; VUWAWA Mbinga. Jederzeit offen für alle\, die gerne Kontakt mit Mensch
 en in der Einen Welt aufnehmen wollen.Unverbindliche Informationen oder An
 meldung bei: Joachim Schmitt Tel. 06021-392143 E-Mail: joachim.schmitt@bis
 tum-wuerzburg.de Der Zugangscode wird nach Anmeldung übermittelt. https://
 www.kab-wuerzburg.de/termine/event/837-twende-auf-geht’s-tansania
DTSTART:20200718T143000Z
DTEND:20200718T160000Z
LOCATION:Video-Treff ()
SUMMARY:Twende - auf geht’s TANSANIA!
URL:https://www.kab-wuerzburg.de/termine/event/837-twende-auf-geht’s-tansan
 ia
END:VEVENT
END:VCALENDAR
