BEGIN:VCALENDAR
VERSION:2.0
PRODID:-//https://www.kab-wuerzburg.de///NONSGML kigkonsult.se iCalcreator 2.10.15//
METHOD:PUBLISH
BEGIN:VEVENT
UID:20260424T192123CEST-4303PnX1Ui@https://www.kab-wuerzburg.de/
DTSTAMP:20260424T172123Z
DESCRIPTION:Im Anschluss daran sind alle auf dem Kirchplatz zur Begegnung e
 ingeladen. Das Teilen des Martinswecks soll uns auch an die Barmherzigkeit
  des Hl. Martin erinnern. Bitte bringen Sie für den Glühtee und Glühwein e
 in eigenes Trinkgefäß mit.Auf Ihr Kommen freuen sich die KAB\, die KjG und
  die Kleinostheimer Kindergärten. https://www.kab-wuerzburg.de/termine/eve
 nt/799-abgesagt-großer-gemeinsamer-martinszug-kab-kleinostheim
DTSTART:20201115T160000Z
DTEND:20201115T180000Z
LOCATION:Pfarrkirche\, St. Laurentius Kleinostheim (Kirchplatz 2\, 63801 Kl
 einostheim)
SUMMARY:ABGESAGT - Großer gemeinsamer Martinszug - KAB Kleinostheim
URL:https://www.kab-wuerzburg.de/termine/event/799-abgesagt-großer-gemeinsa
 mer-martinszug-kab-kleinostheim
END:VEVENT
END:VCALENDAR
