BEGIN:VCALENDAR
VERSION:2.0
PRODID:-//https://www.kab-wuerzburg.de///NONSGML kigkonsult.se iCalcreator 2.10.15//
METHOD:PUBLISH
BEGIN:VEVENT
UID:20260419T195352CEST-0059NxAwvv@https://www.kab-wuerzburg.de/
DTSTAMP:20260419T175352Z
DESCRIPTION:Jung und alt treffen sich zum Johannisfeuer am Freitag\, 26. Ju
 ni im Garten hinter dem Pfarrzentrum (am Fahrradweg). Gemeinsam wollen wir
  den Sommer begrüßen und ein kleines Feuer entzünden.\nBeginn ist um 18.00
  Uhr mit gemütlichen Beisammensein. Um 18.30 Uhr wollen wir bei einer klei
 nen Andacht das Feuer segnen und den Abend mit Liedern\, Tanz und Spielen 
 für die Familien genießen. Für das leibliche Wohl ist mit Bratwürsten\, Ge
 rupften und Getränken gesorgt.\nEs laden ein: KAB Werneck + Team Sausechri
 st https://www.kab-wuerzburg.de/termine/event/1309-johannisfeuer-in-wernec
 k
DTSTART:20260626T160000Z
DTEND:20260626T160100Z
LOCATION:KAB OV Werneck (Werneck\, Bayern)
SUMMARY:Johannisfeuer in Werneck
URL:https://www.kab-wuerzburg.de/termine/event/1309-johannisfeuer-in-wernec
 k
END:VEVENT
END:VCALENDAR
