BEGIN:VCALENDAR
VERSION:2.0
PRODID:-//https://www.kab-wuerzburg.de///NONSGML kigkonsult.se iCalcreator 2.10.15//
METHOD:PUBLISH
BEGIN:VEVENT
UID:20260419T195145CEST-5949vUVzbU@https://www.kab-wuerzburg.de/
DTSTAMP:20260419T175145Z
DESCRIPTION:Pilgern vor der Haustür\nMit der qualifizierten Pilgerbegleiter
 in der ELKB (Evangelisch-Lutherische Kirche in Bayern)\, Evi Pohl folgen w
 ir dem ca. 8 km langen Panoramaweg zwischen Höllental und Mainblick. Der W
 eg verknüpft Geschichte und Kultur Schweinfurts mit der Stadt als Arbeits-
  und Lebensraum.Dazu erfahren wir unterwegs Neues und Interessantes. Im Ge
 hen lernen wir\, zur Ruhe zu kommen und im Hören auf uns\, unsere innere K
 raft zu stärken.\nDas Pilgern – beten mit den Füßen – wird angeleitet und 
 erfahrbar mit spirituellen Angeboten\, Impulsen und Gesprächen. Die uns an
 vertraute Schöpfung wird neu erlebt bei diesem geführten Pilgern.\nEine ge
 meinsame Einkehr in einem Lokal ist geplant.\nTreffpunkt am Samstag\, 30.M
 ai um 9:00 Uhr\nam hinteren Parkplatz der Peterstirn\, Obere Mainleite\, S
 chweinfurt\nMitzubringen sind: geeignete Kleidung und Schuhwerk\, eine Sit
 zunterlage\, Sonnen- undRegenschutz\, Verpflegung und Getränke für den Tag
 .\nDie Teilnahme an der Bildungsveranstaltung des KAB Bildungswerks ist ko
 stenfrei.\nAnmeldung bis 22.05.2026 im KAB-Sekretariat Schweinfurt\, Tel. 
 09721/702511oder kab-schweinfurt@bistum-wuerzburg.de\; https://www.kab-wue
 rzburg.de/termine/event/1307-sich-auf-den-weg-machen
DTSTART:20260530T070000Z
DTEND:20260530T070100Z
LOCATION:Stadt- und Kreisverband Schweinfurt ()
SUMMARY:Sich auf den Weg machen... 
URL:https://www.kab-wuerzburg.de/termine/event/1307-sich-auf-den-weg-machen
END:VEVENT
END:VCALENDAR
