BEGIN:VCALENDAR
VERSION:2.0
PRODID:-//https://www.kab-wuerzburg.de///NONSGML kigkonsult.se iCalcreator 2.10.15//
METHOD:PUBLISH
BEGIN:VEVENT
UID:20260419T194557CEST-4141PvxvaE@https://www.kab-wuerzburg.de/
DTSTAMP:20260419T174557Z
DESCRIPTION: https://www.kab-wuerzburg.de/termine/event/1001-männerbrotzeit
 -was-ist-deine-geschichte-–-wofür-brennst-du-erzähle-uns-von-dir
DTSTART:20260608T170000Z
DTEND:20260608T190000Z
LOCATION:KAB OV Lengfeld (Pilziggrundstraße 39\, 97076\, Würzburg\, Lengfel
 d\, Bayern)
SUMMARY:Männerbrotzeit: Was ist deine Geschichte? – Wofür brennst du? Erzäh
 le uns von dir!
URL:https://www.kab-wuerzburg.de/termine/event/1001-männerbrotzeit-was-ist-
 deine-geschichte-–-wofür-brennst-du-erzähle-uns-von-dir
END:VEVENT
END:VCALENDAR
