BEGIN:VCALENDAR
VERSION:2.0
PRODID:-//https://www.kab-wuerzburg.de///NONSGML kigkonsult.se iCalcreator 2.10.15//
METHOD:PUBLISH
BEGIN:VEVENT
UID:20260421T152701CEST-0623bE6uav@https://www.kab-wuerzburg.de/
DTSTAMP:20260421T132701Z
DESCRIPTION:Resilienz für Mütter und ihre Kinder\nStellt euch vor\, ihr hab
 t eine unsichtbare Superkraft in euch\, die euch hilft\, stark zu bleiben\
 , wenn das Leben mal turbulent wird. Eine Kraft\, die euch immer wieder au
 fstehen lässt\, egal was passiert.\nKlingt das nicht fantastisch?\nIn unse
 rem einzigartigen Mutter-Kind-Workshop laden wir euch ein\, genau diese Su
 perressource Resilienz zu entdecken und zu verstehen.\nIhr lernt spieleris
 ch\, was Resilienz eigentlich ist\, wie sie in euch allen schlummert und w
 ie ihr sie für immer nutzen könnt\, um gestärkt durchs Leben zu gehen.\nSe
 id dabei und werdet unschlagbar – als Team und als Familie!\nReferentin: G
 ülden GülaydinLeitung: Stefanie Rumpel\, Katharina Henneberger\nAnmeldesch
 luss: 27.07.2026\nAusführliche Informationen finden Sie im Download: https
 ://www.kab-wuerzburg.de/bildung/frauen/event/1220-entdeckt-eure-innere-sup
 erkraft
DTSTART:20260810T100000Z
DTEND:20260813T110000Z
LOCATION:Tagungszentrum Schmerlenbach (Schmerlenbacher Straße 8\, 63768 Hös
 bach\, Deutschland)
SUMMARY:Entdeckt eure innere Superkraft
URL:https://www.kab-wuerzburg.de/bildung/frauen/event/1220-entdeckt-eure-in
 nere-superkraft
END:VEVENT
BEGIN:VEVENT
UID:20260421T152701CEST-0626n7OzOW@https://www.kab-wuerzburg.de/
DTSTAMP:20260421T132701Z
DESCRIPTION:Religiöse Bildungstage für Frauen\nMit dem\, was jede von uns p
 ersönlich erwartet\, ist es oft nicht so einfach. Manchmal werden Erwartun
 gen enttäuscht\, so dass ich (Susanne) mir mal eine Zeitlang vorgenommen h
 abe\, keine Erwartungen zu haben. Das klappt aber auch nicht so\, wie „ich
  das erwartet habe“. Manchmal ist eine Erwartung auch eine Vorfreude\, z. 
 B. auf eine Geburt oder auf Weihnachten.Beispiele gibt es genug. Wir möcht
 en uns darüber austauschen und uns gegenseitig Mut machen\, auch mit den E
 rwartungen\, die an uns gestellt werden\, gut umzugehen. In der Bibel steh
 en ebenso Geschichten zum Thema Erwartungen. Wir werden uns in biblische F
 iguren hineinversetzen und dürfen gespannt sein\, was sie uns zu sagen hab
 en.\nWir freuen uns auf ein inspirierendes Adventswochenende mit euch!\nRe
 ferentin: Susanne ÖttingerLeitung: Brigitte Bitzer\nAnmeldung bis 16.11.20
 26\nAusführliche Informationen finden Sie im Download https://www.kab-wuer
 zburg.de/bildung/frauen/event/1230-advent-zeit-der-erwartung
DTSTART:20261127T170000Z
DTEND:20261128T120000Z
LOCATION:Burkardushaus Würzburg (97070 Würzburg\, Am Bruderhof 1)
SUMMARY:Advent - Zeit der Erwartung
URL:https://www.kab-wuerzburg.de/bildung/frauen/event/1230-advent-zeit-der-
 erwartung
END:VEVENT
BEGIN:VEVENT
UID:20260421T152701CEST-0630N9fk0J@https://www.kab-wuerzburg.de/
DTSTAMP:20260421T132701Z
DESCRIPTION:Das Netzwerk Frauen steht allen Frauen offen\, die sich für die
  Situation von Frauen in Kirche\, Politik und Gesellschaft stark machen wo
 llen. Im Netzwerk Frauen werden aktuelle arbeits- und sozialpolitische The
 men inhaltlich diskutiert\, aber auch konkrete Aktivitäten geplant und Erf
 ahrungen ausgetauscht.\nAnsprechpartnerin für das Netzwerk Frauen ist die 
 stellvertretende Diözesanvorsitzende Angelika Goj.\nBei Interesse bitte an
 melden im KAB-Büro Würzburg: Tel. 0931/386 65330 https://www.kab-wuerzburg
 .de/bildung/frauen/event/1344-netzwerk-frauen
DTSTART:20260716T150000Z
DTEND:20260716T190000Z
LOCATION:Kilianeum - Haus der Jugend (Ottostraße 1\, 97070\, Würzburg\, Bay
 ern)
SUMMARY:Netzwerk Frauen
URL:https://www.kab-wuerzburg.de/bildung/frauen/event/1344-netzwerk-frauen
END:VEVENT
END:VCALENDAR
