BEGIN:VCALENDAR
VERSION:2.0
PRODID:-//https://www.kab-wuerzburg.de///NONSGML kigkonsult.se iCalcreator 2.10.15//
METHOD:PUBLISH
BEGIN:VEVENT
UID:20260424T174527CEST-1792eR4E94@https://www.kab-wuerzburg.de/
DTSTAMP:20260424T154527Z
DESCRIPTION: https://www.kab-wuerzburg.de/aktuelles/termine/kalender/event/
 838-diözesanleitung
DTSTART:20200718T070000Z
DTEND:20200718T140000Z
LOCATION:Benediktushöhe Retzbach - Haus der sozialen Bildung   (Zellingen\,
  97225 Retzbach\, Deutschland)
SUMMARY:Diözesanleitung
URL:https://www.kab-wuerzburg.de/aktuelles/termine/kalender/event/838-diöze
 sanleitung
END:VEVENT
END:VCALENDAR
