BEGIN:VCALENDAR
VERSION:2.0
PRODID:-//https://www.kab-wuerzburg.de///NONSGML kigkonsult.se iCalcreator 2.10.15//
METHOD:PUBLISH
BEGIN:VEVENT
UID:20260424T121242CEST-7042LV8fvU@https://www.kab-wuerzburg.de/
DTSTAMP:20260424T101242Z
DESCRIPTION: https://www.kab-wuerzburg.de/aktuelles/termine/kalender/event/
 835-ag-open-sozial-mil-obb
DTSTART:20200803T140000Z
DTEND:20200803T153000Z
LOCATION:Mi (Miltenberg\, Bayern)
SUMMARY:AG Open Sozial Mil/OBB
URL:https://www.kab-wuerzburg.de/aktuelles/termine/kalender/event/835-ag-op
 en-sozial-mil-obb
END:VEVENT
END:VCALENDAR
