BEGIN:VCALENDAR
VERSION:2.0
PRODID:-//https://www.kab-wuerzburg.de///NONSGML kigkonsult.se iCalcreator 2.10.15//
METHOD:PUBLISH
BEGIN:VEVENT
UID:20260422T232804CEST-2870NCo2Du@https://www.kab-wuerzburg.de/
DTSTAMP:20260422T212804Z
DESCRIPTION:BILDUNGSWOCHENENDE FÜR FAMILIENIn der jetzigen Zeit ist es nich
 t immer einfach\, positiv zu denken.Verbissen meistern wir den Tag\, falle
 n abends erschöpft ins Bett und nehmen uns immer wieder vor\, irgendwann w
 ieder glücklich zu sein. Man ist wie versteinert.Wie dein Körper braucht a
 uch deine Seele Aufmerksamkeit\, um „in Form“ zu bleiben. Deshalb ist es w
 ichtig\, dass Du Dir Zeit für Dich nimmst und gut für Dich sorgst.An diese
 m Wochenende werden wir versuchen\, die notwendigen Streicheleinheiten für
  Körper und Seele nicht auf morgen zu verschieben.Wir freuen uns auf EuchA
 nmeldung bis 30.04.2022&nbsp\;bei&nbsp\;KAB-Bildungswerk Diözese Würzburg 
 e.V.Tel. 06021 / 392 140 oder E-Mail kab-aschaffenburg@bistum-wuerzburg.de
 Weitere Informationen finden Sie hier https://www.kab-wuerzburg.de/aktuell
 es/termine/kalender/event/513-streicheleinheiten-für-die-seele
DTSTART:20220603T160000Z
DTEND:20220606T110000Z
LOCATION:Tagungszentrum Schmerlenbach (Schmerlenbacher Straße 8\, 63768 Hös
 bach\, Deutschland)
SUMMARY:Streicheleinheiten für die Seele
URL:https://www.kab-wuerzburg.de/aktuelles/termine/kalender/event/513-strei
 cheleinheiten-für-die-seele
END:VEVENT
END:VCALENDAR
