BEGIN:VCALENDAR
VERSION:2.0
PRODID:-//https://www.kab-wuerzburg.de///NONSGML kigkonsult.se iCalcreator 2.10.15//
METHOD:PUBLISH
BEGIN:VEVENT
UID:20260419T165656CEST-8386Owk2t7@https://www.kab-wuerzburg.de/
DTSTAMP:20260419T145656Z
DESCRIPTION:Vater kind zeltlagerLiebe Väter und Kinder!Nach der langen Coro
 na-Pause geht es auf ins schöne&nbsp\;Thüringen.&nbsp\;Bei den Pfadfindern
  planen wir schöne gemeinsame&nbsp\;Erlebnisse als Vater-Kind-Team\, wie a
 uch mit anderen&nbsp\;kleinen und großen „Kindern“.&nbsp\;Wir werden als „
 Schlauchbootteams“ die Saale erkunden&nbsp\;und uns geführt die Natur erkl
 ären lassen.&nbsp\;Klassiker wie Lagerolympiade\, Grillen\, Stockbrot und&
 nbsp\;die Nachtwanderung gehören ebenso dazu. Natürlich&nbsp\;auch immer w
 ieder mit freier Zeit zum Entspannen\,&nbsp\;Spielen und Tummeln auf dem Z
 eltplatz.&nbsp\;Die Unterbringung erfolgt in&nbsp\; itgebrachten Zelten&nb
 sp\;oder in Bungalows (Aufpreis).&nbsp\;Die Kinder und Jugendlichen sollte
 n ihre Hausaufgaben&nbsp\; uhause lassen und die Väter ihre Terminkalender
 .&nbsp\;So haben wir Zeit füreinander und können entdecken\,&nbsp\;was Kle
 in und Groß eigentlich noch alles kann.Auf die gemeinsame Zeit mit Euch fr
 eut sich das&nbsp\;Vorbereitungsteam:Jens Wissel - Marie Stasik - Michael 
 Fäth - Rüdiger WisselAnmeldung bis 10.06.2022&nbsp\;bei&nbsp\;KAB-Bildungs
 werk Diözese Würzburg e.V.Tel. 06021 / 392 140 oder E-Mail kab-aschaffenbu
 rg@bistum-wuerzburg.deWeitere Informationen finden sie hier {rsfiles path=
 'familien/220615_VK Zeltlager Burg Ludwigstein.pdf'}&nbsp\; https://www.ka
 b-wuerzburg.de/aktuelles/termine/kalender/event/508-zum-greifenstein-besuc
 h-bei-den-pfadfindern
DTSTART:20220615T070000Z
DTEND:20220619T080000Z
LOCATION:Pfadfinderzentrum zum Greifenstein (07422 Bad Blankenburg)
SUMMARY:Zum Greifenstein - Besuch bei den Pfadfindern
URL:https://www.kab-wuerzburg.de/aktuelles/termine/kalender/event/508-zum-g
 reifenstein-besuch-bei-den-pfadfindern
END:VEVENT
END:VCALENDAR
