BEGIN:VCALENDAR
VERSION:2.0
PRODID:-//https://www.kab-wuerzburg.de///NONSGML kigkonsult.se iCalcreator 2.10.15//
METHOD:PUBLISH
BEGIN:VEVENT
UID:20260419T190922CEST-7063LRAmi3@https://www.kab-wuerzburg.de/
DTSTAMP:20260419T170922Z
DESCRIPTION:Kirchplatzfest an FronleichnamAn Fronleichnam findet der Gottes
 dienst auf dem Kirchplatz statt und endet mit der feierlichen Prozession. 
 Direkt im Anschluss beginnt unser Kirchplatzfest.Gerne begrüßen wir Sie zu
 m gemütlichen Beisammensein\, gemeinsamen Essen und Trinken und zum kreati
 ven Austausch.&nbsp\;Auszug aus der Speisekarte: Currywurst\, Bratwurst\, 
 Rindswurst mit Brötchen oder mit Pommes\, Kammbraten-Brötchen\, Pommes Fri
 tes mit Ketchup/Mayonnaise https://www.kab-wuerzburg.de/aktuelles/termine/
 kalender/event/507-kirchplatzfest-an-fronleichnam-kab-kleinostheim
DTSTART:20220616T080000Z
DTEND:20220616T130000Z
LOCATION:Kirchplatz\, St. Laurentius Kleinostheim (Kirchplatz\, 63801 Klein
 ostheim)
SUMMARY:Kirchplatzfest an Fronleichnam - KAB Kleinostheim
URL:https://www.kab-wuerzburg.de/aktuelles/termine/kalender/event/507-kirch
 platzfest-an-fronleichnam-kab-kleinostheim
END:VEVENT
END:VCALENDAR
