BEGIN:VCALENDAR
VERSION:2.0
PRODID:-//https://www.kab-wuerzburg.de///NONSGML kigkonsult.se iCalcreator 2.10.15//
METHOD:PUBLISH
BEGIN:VEVENT
UID:20260419T184038CEST-4118ihXugz@https://www.kab-wuerzburg.de/
DTSTAMP:20260419T164038Z
DESCRIPTION:VATER-KIND-ZELTLAGER IN DEN PFINGSTFERIENWir laden Euch ein\, m
 it uns spannende Tage auf dem Jugendzeltplatz in Detter zu verbringen.In d
 iesem Jahr dreht sich bei unserem Zeltlager alles um Wald\, Wiese und Wass
 er.Und wie immer wollen wir...• gute Gemeinschaft erleben• viel Natur erfa
 hren• spannende Unternehmungen machen• neue Leute kennen lernenAuf Eure Te
 ilnahme freut sich das VorbereitungsteamAnmeldung ab sofort!&nbsp\;E-Mail:
  kab-schweinfurt@bistum-wuerzburg.deWeitere Informationen finden Sie hier 
 https://www.kab-wuerzburg.de/aktuelles/termine/kalender/event/506-wald-wie
 se-wasser-vater-kind-zeltlager-in-detter-schondratal
DTSTART:20220616T120000Z
DTEND:20220619T120000Z
LOCATION:Detter (Schondratal) Kreis Main Spessart ()
SUMMARY:WALD - WIESE - WASSER Vater-Kind-Zeltlager in Detter (Schondratal)
URL:https://www.kab-wuerzburg.de/aktuelles/termine/kalender/event/506-wald-
 wiese-wasser-vater-kind-zeltlager-in-detter-schondratal
END:VEVENT
END:VCALENDAR
