BEGIN:VCALENDAR
VERSION:2.0
PRODID:-//https://www.kab-wuerzburg.de///NONSGML kigkonsult.se iCalcreator 2.10.15//
METHOD:PUBLISH
BEGIN:VEVENT
UID:20260424T025542CEST-3910L753ZU@https://www.kab-wuerzburg.de/
DTSTAMP:20260424T005542Z
DESCRIPTION: https://www.kab-wuerzburg.de/aktuelles/termine/kalender/event/
 505-demenz-im-alter-ii-vortrag\,-fragen\,-diskussion
DTSTART:20220621T173000Z
DTEND:20220621T190000Z
LOCATION:Ökumenisches Zentrum (ÖZ) (Riedstraße 1\, 97076\, Würzburg\, Lengf
 eld\, Bayern)
SUMMARY:Demenz im Alter II: Vortrag\, Fragen\, Diskussion
URL:https://www.kab-wuerzburg.de/aktuelles/termine/kalender/event/505-demen
 z-im-alter-ii-vortrag,-fragen,-diskussion
END:VEVENT
END:VCALENDAR
