BEGIN:VCALENDAR
VERSION:2.0
PRODID:-//https://www.kab-wuerzburg.de///NONSGML kigkonsult.se iCalcreator 2.10.15//
METHOD:PUBLISH
BEGIN:VEVENT
UID:20260423T061823CEST-4858Z3PZH2@https://www.kab-wuerzburg.de/
DTSTAMP:20260423T041823Z
DESCRIPTION:BILDUNGSWOCHENENDE FÜR FAMILIENWir sind vielfältigen Anforderun
 gen ausgesetzt:Beruf und Ehrenamt\, Familie und Partnerschaft\, Freunde\, 
 der tägliche Kleinkram und die Bewältigung der Zumutungen unseres Lebens\,
  die auf den ersten Blick im Widerspruch zu stehen scheinen.Auf der einen 
 Seite unsere Bedürfnisse nach Sicherheit und Geborgenheit.Und auf der ande
 ren Seite nach Freiheit\, Wachstum und Entfaltung.Die eine Kraft will den 
 Status quo bewahren\, die andere will sich weiterentwickeln.An diesem Woch
 enende gehen wir der Frage nach\, woran es liegt\, dass wir selbst im größ
 ten Freiheitsdrang zu unseren Wurzeln zurückkehren.Wir freuen uns auf ein 
 interessantes Wochenende mit euch.Anmeldung bis 20.05.2022&nbsp\;bei&nbsp\
 ;KAB-Bildungswerk Diözese Würzburg e.V.Tel. 06021 / 392 140 oder E-Mail ka
 b-aschaffenburg@bistum-wuerzburg.deWeitere Informationen finden Sie hier h
 ttps://www.kab-wuerzburg.de/aktuelles/termine/kalender/event/499-was-uns-h
 alt-gibt-von-der-kraft-der-resilienz-und-dem-vertrauen\,-das-leben-zu-meis
 tern
DTSTART:20220701T160000Z
DTEND:20220703T110000Z
LOCATION:SeminarZentrum Rückersbach (Kolpingstraße 1\, 63867 Johannesberg)
SUMMARY:Was uns Halt gibt - Von der Kraft der Resilienz und dem Vertrauen\,
  das Leben zu meistern
URL:https://www.kab-wuerzburg.de/aktuelles/termine/kalender/event/499-was-u
 ns-halt-gibt-von-der-kraft-der-resilienz-und-dem-vertrauen,-das-leben-zu-m
 eistern
END:VEVENT
END:VCALENDAR
