BEGIN:VCALENDAR
VERSION:2.0
PRODID:-//https://www.kab-wuerzburg.de///NONSGML kigkonsult.se iCalcreator 2.10.15//
METHOD:PUBLISH
BEGIN:VEVENT
UID:20260423T081511CEST-4957zuV1wc@https://www.kab-wuerzburg.de/
DTSTAMP:20260423T061511Z
DESCRIPTION: https://www.kab-wuerzburg.de/aktuelles/termine/kalender/event/
 498-kab-schwanfeld-radwallfahrt-vierzehnheiligen
DTSTART;VALUE=DATE:20220702
LOCATION:KAB OV Schwanfeld (Schwanfeld\, Bayern)
SUMMARY:KAB Schwanfeld Radwallfahrt Vierzehnheiligen
URL:https://www.kab-wuerzburg.de/aktuelles/termine/kalender/event/498-kab-s
 chwanfeld-radwallfahrt-vierzehnheiligen
END:VEVENT
END:VCALENDAR
