BEGIN:VCALENDAR
VERSION:2.0
PRODID:-//https://www.kab-wuerzburg.de///NONSGML kigkonsult.se iCalcreator 2.10.15//
METHOD:PUBLISH
BEGIN:VEVENT
UID:20260423T062250CEST-4929SF5UGn@https://www.kab-wuerzburg.de/
DTSTAMP:20260423T042250Z
DESCRIPTION:Zelten\, Spielen\, Gemeinschaft erleben...Die KAB Ortsverbände 
 im Markt Werneck laden alle Familien mit Kindern und Großeltern mit Enkelk
 indern zum Familientag an der Pfadfinderhütte in Egenhausen ein.Das Geländ
 e um die Pfadfinderhütte bietet viele abenteuerliche Spielmöglichkeiten. A
 m Samstag ab 16.00 Uhr beginnen wir mit Spiel\, Spaß und Action für alle. 
 Zur Stärkung gibt es Leckeres vom Grill.Gegen 19.30 Uhr starten wir zu uns
 erer Wanderung in den Sonnenuntergang. Wieder zurück am Lagerfeuer wollen 
 wir gemeinsam Gottesdienst feiern und den Tag am Feuer ausklingen lassen. 
 Dann erwartet uns eine spannende Nacht im Zelt. Am Sonntag nach dem gemein
 samen Frühstück ist Zeit für weitere Aktivitäten. Gegen 11.00 Uhr endet da
 nn unser Fest.Anmeldung erforderlich bis 26.06.2022:Sandra Walter Tel. 097
 22/9480055 oder kab-werneck@web.de https://www.kab-wuerzburg.de/aktuelles/
 termine/kalender/event/497-familientag-an-der-pfadfinderhütte-egenhausen
DTSTART:20220702T140000Z
DTEND:20220703T090000Z
LOCATION:KAB OV Werneck (Werneck\, Bayern)
SUMMARY: Familientag an der Pfadfinderhütte Egenhausen
URL:https://www.kab-wuerzburg.de/aktuelles/termine/kalender/event/497-famil
 ientag-an-der-pfadfinderhütte-egenhausen
END:VEVENT
END:VCALENDAR
