BEGIN:VCALENDAR
VERSION:2.0
PRODID:-//https://www.kab-wuerzburg.de///NONSGML kigkonsult.se iCalcreator 2.10.15//
METHOD:PUBLISH
BEGIN:VEVENT
UID:20260420T124114CEST-5691DchkJd@https://www.kab-wuerzburg.de/
DTSTAMP:20260420T104114Z
DESCRIPTION:Liebe Kolleginnen und Kollegen\,verhandeln und moderieren gehör
 en zum Tagesgeschäft in der Arbeit als Arbeitnehmervertreter/ in.Das Leite
 n von Sitzungen\, die Verhandlungen mit dem Arbeitgeber\, bzw. Dienstgeber
 \, das Gespräch zwischen Kollegen/innen moderieren\, damit es zu guten Lös
 ungen kommt.Wir werden die an diesen beiden Tagen die Grundlagen von Gespr
 ächs- und Verhandlungsführung theoretisch und praktisch bearbeiten\, bzw. 
 üben.Freistellung/Schulungsanspruch: Dies ist eine Schulungsmaßnahme i.S.d
 . §37 Abs.6 BetrVG\, Art. 46 Abs.5 BayPVG\, § 16 MAVO. Dementsprechend ist
  ein Beschluss des Betriebsrates\, Personalrates\, der Mitarbeitervertretu
 ng zu fassen und dem Arbeitgeber bzw. Dienstgeber mitzuteilen.Anmeldung bi
 s 18.04.2023 per Fax 0931/386-65 320\, E-Mail kab@bistum-wuerzburg.de&nbsp
 \;oder im Internet.Näheres erfahren Sie hier im Download: https://www.kab-
 wuerzburg.de/aktuelles/termine/kalender/event/315-„werkzeugkiste“-verhandl
 ung-und-moderation
DTSTART:20230515T070000Z
DTEND:20230516T143000Z
LOCATION:Exerzitienhaus Himmelspforten\, Würzburg ()
SUMMARY:„Werkzeugkiste“ Verhandlung und Moderation
URL:https://www.kab-wuerzburg.de/aktuelles/termine/kalender/event/315-„werk
 zeugkiste“-verhandlung-und-moderation
END:VEVENT
END:VCALENDAR
