BEGIN:VCALENDAR
VERSION:2.0
PRODID:-//https://www.kab-wuerzburg.de///NONSGML kigkonsult.se iCalcreator 2.10.15//
METHOD:PUBLISH
BEGIN:VEVENT
UID:20260421T123239CEST-0030lKc9g1@https://www.kab-wuerzburg.de/
DTSTAMP:20260421T103239Z
DESCRIPTION:Klaus Köhler\, Betriebsseelsorger\,KAB-Diözesansekretär führt d
 urch die Karikaturenausstellung 'Arbeit ist das halbe Leben?'Herzliche Ein
 ladung! https://www.kab-wuerzburg.de/aktuelles/termine/kalender/event/235-
 führung-durch-die-ausstellung-arbeit-ist-das-halbe-leben
DTSTART:20231024T163000Z
DTEND:20231024T163100Z
LOCATION:Burkardushaus Würzburg (97070 Würzburg\, Am Bruderhof 1)
SUMMARY:Führung durch die Ausstellung 'Arbeit ist das halbe Leben?'
URL:https://www.kab-wuerzburg.de/aktuelles/termine/kalender/event/235-führu
 ng-durch-die-ausstellung-arbeit-ist-das-halbe-leben
END:VEVENT
END:VCALENDAR
