BEGIN:VCALENDAR
VERSION:2.0
PRODID:-//https://www.kab-wuerzburg.de///NONSGML kigkonsult.se iCalcreator 2.10.15//
METHOD:PUBLISH
BEGIN:VEVENT
UID:20260423T111803CEST-9158Uh1nwM@https://www.kab-wuerzburg.de/
DTSTAMP:20260423T091803Z
DESCRIPTION:Liebe Kolleginnen und Kollegen\,der/die Vorsitzende stehen in b
 esonderer Verantwortung für die Arbeit des Betriebsrats.Die Vorbereitung d
 er Sitzung\, die Verhandlungen und Gespräche mit dem Dienstgeber beeinflus
 sen die Arbeit und die Themen des Betriebsrats.Der/die Vorsitzende ist der
 /die erste Ansprechpartner*in für den Arbeitgeber und hat dadurch eine her
 ausgehobene Position im Betrieb.Hierbei kann es zu Rollenkonflikten kommen
 . Wie beziehe ich den ganzen Betriebsrat in die Arbeit ein\, so dass nicht
  alle Arbeit am Vorsitzenden bzw. der Vorsitzenden „hängen“ bleiben?Diese 
 Fragestellungen wollen wir bei unserem Tagesseminar besprechen.Dies ist ei
 ne Schulungsmaßnahme i.S.d. §37 Abs.6 BetrVG. Dementsprechend ist ein Besc
 hluss des Betriebsrates zu fassen und dem Arbeitgeber mitzuteilen.Anmeldun
 g bis 14.09.2023 per Fax 0931/386-65 320\, E-Mail kab@bistum-wuerzburg.de&
 nbsp\;oder im Internet.Näheres erfahren Sie hier im Download: https://www.
 kab-wuerzburg.de/aktuelles/termine/kalender/event/230-tagesseminar-für-bet
 riebsratsvorsitzende
DTSTART:20231102T080000Z
DTEND:20231102T160000Z
LOCATION:Exerzitienhaus Himmelspforten\, Würzburg ()
SUMMARY:Tagesseminar für Betriebsratsvorsitzende
URL:https://www.kab-wuerzburg.de/aktuelles/termine/kalender/event/230-tages
 seminar-für-betriebsratsvorsitzende
END:VEVENT
END:VCALENDAR
