BEGIN:VCALENDAR
VERSION:2.0
PRODID:-//https://www.kab-wuerzburg.de///NONSGML kigkonsult.se iCalcreator 2.10.15//
METHOD:PUBLISH
BEGIN:VEVENT
UID:20260420T211635CEST-7720HgOWlg@https://www.kab-wuerzburg.de/
DTSTAMP:20260420T191635Z
DESCRIPTION:Die KAB Großheubach lädt am Samstag\, 10. Februar von 9.00 bis 
 11.30 Uhr zum Frühstück mit Vortrag ins Jugendheim Großheubach ein.„Sage i
 mmer die Wahrheit – aber sage die Wahrheit nicht immer“ lautet ein Sprichw
 ort.Menschen wünschen sich Wahrheit und Ehrlichkeit. Dennoch lügen wir Men
 schen gar nicht so selten. In welcher Absicht tun wir das? Mit dieser span
 nenden Frage beschäftigt sich Referentin Monika Knüpf.Die Teilnahme an der
  Bildungsveranstaltung des KAB Bildungswerks ist kostenfrei.Für das Frühst
 ück erhebt der Ortsverband 8\,- Euro.Anmeldung bis Donnerstag\, 8. Februar
  2024\, bei Renate Köller\, Tel. 3703\, oder Maria Vornberger\, Tel. 4154\
 , erforderlich https://www.kab-wuerzburg.de/aktuelles/termine/kalender/eve
 nt/172-wahrheit-und-lüge
DTSTART:20240210T080000Z
DTEND:20240210T103000Z
LOCATION:KAB OV Großheubach ()
SUMMARY:Wahrheit und Lüge
URL:https://www.kab-wuerzburg.de/aktuelles/termine/kalender/event/172-wahrh
 eit-und-lüge
END:VEVENT
END:VCALENDAR
