BEGIN:VCALENDAR
VERSION:2.0
PRODID:-//https://www.kab-wuerzburg.de///NONSGML kigkonsult.se iCalcreator 2.10.15//
METHOD:PUBLISH
BEGIN:VEVENT
UID:20260421T004847CEST-3648oEv6u2@https://www.kab-wuerzburg.de/
DTSTAMP:20260420T224847Z
DESCRIPTION:Grundlagenseminar ArbeitsrechtMit der arbeits- und sozialrechtl
 ichen Grundlagen-Schulung\, wollen wir Ehrenamtliche für diese Lotsentätig
 keit fit machen.Es ist uns wichtig\, für diese Aufgabe interessierte\, akt
 ive Personen zu gewinnen\, die sich der KAB mit ihrem Anliegen verbunden f
 ühlen und bereits sind\, sich hier zu engagieren.Auf Grund der Umbrüche un
 d Herausforderungen in der Arbeitswelt wird die Zahl der Ratsuchenden sich
 erlich weiterhin hoch sein.Darauf wollen wir als KAB antworten und mit uns
 erer Beratungskompetenz für die KAB werben.Unsere Lotsinnen und Lotsen kön
 nen hierbei tatkräftig unterstützen.&nbsp\;Über Ihre Teilnahme freuen wir 
 uns sehr.&nbsp\;Anmeldung:Email: kab-aschaffenburg@bistum-wuerzburg.de ode
 rmit Anmeldeabschnitt per Fax an 06021/392149 oder anKAB Bildungswerk Diöz
 ese Würzburg e.V.\, Treibgasse 26\, 63739 Aschaffenburg&nbsp\;Nähere Infor
 mationen erhalten Sie hier: https://www.kab-wuerzburg.de/aktuelles/termine
 /kalender/event/160-grundlagenseminar-arbeits-und-sozialrecht
DTSTART:20240224T083000Z
DTEND:20240224T163000Z
LOCATION:Haus Klara - Kloster Oberzell ()
SUMMARY:Grundlagenseminar Arbeits- und Sozialrecht 
URL:https://www.kab-wuerzburg.de/aktuelles/termine/kalender/event/160-grund
 lagenseminar-arbeits-und-sozialrecht
END:VEVENT
END:VCALENDAR
