BEGIN:VCALENDAR
VERSION:2.0
PRODID:-//https://www.kab-wuerzburg.de///NONSGML kigkonsult.se iCalcreator 2.10.15//
METHOD:PUBLISH
BEGIN:VEVENT
UID:20260421T023825CEST-9062aOupVu@https://www.kab-wuerzburg.de/
DTSTAMP:20260421T003825Z
DESCRIPTION:Sie haben Angst um ihren Arbeitsplatz\, weil es dem Betrieb sch
 lecht geht? Sie stehen vor dem Ruhestand und wollen wissen\, wie Ihre Rent
 e aussieht? Sie erleben Konflikte am Arbeitsplatz bis hin zu Mobbing und w
 ollen lernen\, damit umzugehen? Sie haben Ihren Arbeitsplatz schon verlore
 n und wollen wissen\, was es mit Arbeitslosengeld und Hartz IV auf sich ha
 t? Sie haben Fragen zum Thema Schwerbehinderung oder sind schon länger kra
 nk? Wir beraten Sie in den Bereichen Arbeit- und Sozialrecht.Anmeldung übe
 r Tel.: 0152/26211111!&nbsp\;&nbsp\; https://www.kab-wuerzburg.de/aktuelle
 s/termine/kalender/event/159-beratung-arbeit-und-soziales
DTSTART:20240227T150000Z
DTEND:20240227T170000Z
LOCATION:Haus St. Bruno\, 97437 Haßfurt\, Promenade 37 ()
SUMMARY:Beratung Arbeit und Soziales
URL:https://www.kab-wuerzburg.de/aktuelles/termine/kalender/event/159-berat
 ung-arbeit-und-soziales
END:VEVENT
END:VCALENDAR
