BEGIN:VCALENDAR
VERSION:2.0
PRODID:-//https://www.kab-wuerzburg.de///NONSGML kigkonsult.se iCalcreator 2.10.15//
METHOD:PUBLISH
BEGIN:VEVENT
UID:20260421T024033CEST-9089xml7GO@https://www.kab-wuerzburg.de/
DTSTAMP:20260421T004033Z
DESCRIPTION:Große Kundgebung (kein Demonstrationszug) gegen Rechtsextremism
 us für Demokratie und Vielfaltam Sonntag\, 3.3.2024\, 16 Uhr Domvorplatz i
 n Würzburg.Initiiert vom Würzburger Bündnis für Demokratie und Zivilcourag
 e in Zusammenarbeit mit dem Bündnis „Würzburg ist bunt“ bestehend aus zivi
 lgesellschaftlichen Organisationen\, Gewerkschaften und Religionsgemeinsch
 aften. Hier sind wir als KAB Mitglied.Lasst uns als KAB bei dieser Kundgeb
 ung dabei sein und gegen Rechtsextremismus und Antisemitismus „Flagge“ zei
 gen.Treffpunkt: 15.30 Uhr am Vierröhrenbrunnen in Würzburg um dann gemeins
 am zum Domvorplatz zu gehen. Kennzeichen könnte der KAB-Schal sein:)&nbsp\
 ;&nbsp\; https://www.kab-wuerzburg.de/aktuelles/termine/kalender/event/157
 -vielfalt-schützen-gemeinsam-gegen-diskriminierung\,-rassismus-und-rechte-
 gewalt-großkundgebung
DTSTART:20240303T150000Z
DTEND:20240303T150100Z
LOCATION:Würzburg ()
SUMMARY:Vielfalt schützen! Gemeinsam gegen Diskriminierung\, Rassismus und 
 rechte Gewalt - Großkundgebung 
URL:https://www.kab-wuerzburg.de/aktuelles/termine/kalender/event/157-vielf
 alt-schützen-gemeinsam-gegen-diskriminierung,-rassismus-und-rechte-gewalt-
 großkundgebung
END:VEVENT
END:VCALENDAR
