BEGIN:VCALENDAR
VERSION:2.0
PRODID:-//https://www.kab-wuerzburg.de///NONSGML kigkonsult.se iCalcreator 2.10.15//
METHOD:PUBLISH
BEGIN:VEVENT
UID:20260420T155926CEST-2653UJaMKh@https://www.kab-wuerzburg.de/
DTSTAMP:20260420T135926Z
DESCRIPTION:Liebe Kolleginnen und Kollegen\,die Arbeit im Betriebsrat ist n
 icht immer einfach\, erfordert viel Durchhaltevermögen und Wissen.Wir sage
 n Danke für das Engagement und den Einsatz für die Kolleginnen und Kollege
 n in eurem Betrieb.Dieser Aufbaukurs ist besonders auf wiedergewählte und 
 langjährige Betriebsräte/innen und Ersatzmitglieder und deren Bedürfnisse 
 zugeschnitten.Informationen\, aktuelle Rechtsprechung und Arbeitsweisen we
 rden den Blick auf das Arbeitsrecht und die Arbeitswelt erweitern.Dies ist
  eine Schulungsmaßnahme i.S.d. §37 Abs.6 BetrVG. Dementsprechend ist ein B
 eschluss des Betriebsrates zu fassen und dem Arbeitgeber mitzuteilen.Anmel
 dung bis 04.12.2023 per Fax 0931/386-65 320\, E-Mail kab@bistum-wuerzburg.
 de&nbsp\;oder im Internet.Näheres erfahren Sie hier im Download: https://w
 ww.kab-wuerzburg.de/aktuelles/termine/kalender/event/156-betriebsverfassun
 gsgesetz-betrvg-und-arbeitsrecht-aufbaukurs
DTSTART:20240306T080000Z
DTEND:20240308T160000Z
LOCATION:Haus Klara - Kloster Oberzell ()
SUMMARY:Betriebsverfassungsgesetz (BetrVG) und Arbeitsrecht - Aufbaukurs
URL:https://www.kab-wuerzburg.de/aktuelles/termine/kalender/event/156-betri
 ebsverfassungsgesetz-betrvg-und-arbeitsrecht-aufbaukurs
END:VEVENT
END:VCALENDAR
