BEGIN:VCALENDAR
VERSION:2.0
PRODID:-//https://www.kab-wuerzburg.de///NONSGML kigkonsult.se iCalcreator 2.10.15//
METHOD:PUBLISH
BEGIN:VEVENT
UID:20260420T153340CEST-1084ZgHU2I@https://www.kab-wuerzburg.de/
DTSTAMP:20260420T133340Z
DESCRIPTION:Liebe Kolleginnen und Kollegen\,die Arbeit im Betriebsrat ist n
 icht immer einfach\, erfordert viel Durchhaltevermögen und Wissen.Wir sage
 n Danke für das Engagement und den Einsatz für die Kolleginnen und Kollege
 n in eurem Betrieb.Dieser Grundkurs ist besonders auf neugewählte Betriebs
 räte/innen und Ersatzmitglieder und deren Bedürfnisse zugeschnitten . Info
 rmationen\, aktuelle Rechtsprechung und Arbeitsweisen werden den Blick auf
  das Arbeitsrecht und die Arbeitswelt erweitern.Dies ist eine Schulungsmaß
 nahme i.S.d. §37 Abs.6 BetrVG. Dementsprechend ist ein Beschluss des Betri
 ebsrates zu fassen und dem Arbeitgeber mitzuteilen.Anmeldung bis 04.12.202
 3 per Fax 0931/386-65 320\, E-Mail kab@bistum-wuerzburg.de&nbsp\;oder im I
 nternet.Näheres erfahren Sie hier im Download: https://www.kab-wuerzburg.d
 e/aktuelles/termine/kalender/event/155-einführung-in-das-betriebsverfassun
 gsgesetz-betrvg-und-arbeitsrecht-grundkurs
DTSTART:20240306T080000Z
DTEND:20240308T160000Z
LOCATION:Haus Klara - Kloster Oberzell ()
SUMMARY:Einführung in das Betriebsverfassungsgesetz (BetrVG) und Arbeitsrec
 ht - Grundkurs
URL:https://www.kab-wuerzburg.de/aktuelles/termine/kalender/event/155-einfü
 hrung-in-das-betriebsverfassungsgesetz-betrvg-und-arbeitsrecht-grundkurs
END:VEVENT
END:VCALENDAR
