BEGIN:VCALENDAR
VERSION:2.0
PRODID:-//https://www.kab-wuerzburg.de///NONSGML kigkonsult.se iCalcreator 2.10.15//
METHOD:PUBLISH
BEGIN:VEVENT
UID:20260420T153913CEST-71145g5xNb@https://www.kab-wuerzburg.de/
DTSTAMP:20260420T133913Z
DESCRIPTION:Liebe Kolleginnen und Kollegen\,die Arbeit im Personalrat ist n
 icht immer einfach\, erfordert viel Durchhaltevermögen und Wissen.Wir sage
 n Danke für das Engagement und den Einsatz für die Kolleginnen und Kollege
 n in eurer Dienststelle\, Einrichtung oder eurem Betrieb.Dieser Grundkurs 
 ist besonders auf neugewählte Personalräte/innen und Ersatzmitglieder und 
 deren Bedürfnisse zugeschnitten . Informationen\, aktuelle Rechtssprechung
  und Arbeitsweisen werden den Blick auf das Arbeitsrecht und die Arbeitswe
 lt erweitern.Dies ist eine Schulungsmaßnahme i.S.d. Art. 46 Abs.5 BayPVG. 
 Dementsprechend ist ein Beschluss des Personalrats zu fassen und dem Diens
 tgeber mitzuteilen.Anmeldung bis 04.12.2023 per Fax 0931/386-65 320\, E-Ma
 il kab@bistum-wuerzburg.de&nbsp\;oder im Internet.Näheres erfahren Sie hie
 r im Download: https://www.kab-wuerzburg.de/aktuelles/termine/kalender/eve
 nt/154-einführung-in-das-bayerische-personalvertretungsgesetz-baypvg-und-a
 rbeitsrecht-grundkurs
DTSTART:20240306T080000Z
DTEND:20240308T160000Z
LOCATION:Haus Klara - Kloster Oberzell ()
SUMMARY:Einführung in das Bayerische Personalvertretungsgesetz (BayPVG) und
  Arbeitsrecht - Grundkurs
URL:https://www.kab-wuerzburg.de/aktuelles/termine/kalender/event/154-einfü
 hrung-in-das-bayerische-personalvertretungsgesetz-baypvg-und-arbeitsrecht-
 grundkurs
END:VEVENT
END:VCALENDAR
