BEGIN:VCALENDAR
VERSION:2.0
PRODID:-//https://www.kab-wuerzburg.de///NONSGML kigkonsult.se iCalcreator 2.10.15//
METHOD:PUBLISH
BEGIN:VEVENT
UID:20260420T153344CEST-6532PzCx5m@https://www.kab-wuerzburg.de/
DTSTAMP:20260420T133344Z
DESCRIPTION:Liebe Kolleginnen und Kollegen\,die Arbeit im Personalrat ist n
 icht immer einfach\, erfordert viel Durchhaltevermögen und Wissen.Wir sage
 n Danke für das Engagement und den Einsatz für die Beschäftigten in eurer 
 Dienststelle\, eurem Betrieb oder eurer Einrichtung.Dieser Kurs ist besond
 ers auf wiedergewählte Personalräte/Innen und langjährigen Personalratsmit
 gliedern und deren Bedürfnisse zugeschnitten.Neues aus dem Bereich des Bay
 PVG (anstehende Novellierung)\, aktuelle Rechtsprechung und Arbeitsweisen 
 werden den Blick auf das Arbeitsrecht und die Arbeitswelt erweitern.Dies i
 st eine Schulungsmaßnahme i.S.d. Art. 46 Abs.5 BayPVG. Dementsprechend ist
  ein Beschluss des Personalrats zu fassen und dem Dienstgeber mitzuteilen.
 Anmeldung bis 04.12.2023 per Fax 0931/386-65 320\, E-Mail kab@bistum-wuerz
 burg.de&nbsp\;oder im Internet.Näheres erfahren Sie hier im Download: http
 s://www.kab-wuerzburg.de/aktuelles/termine/kalender/event/153-das-bayerisc
 he-personalvertretungsgesetz-baypvg-und-arbeitsrecht-aufbaukurs
DTSTART:20240306T080000Z
DTEND:20240308T160000Z
LOCATION:Haus Klara - Kloster Oberzell ()
SUMMARY:Das Bayerische Personalvertretungsgesetz (BayPVG) und Arbeitsrecht 
 - Aufbaukurs
URL:https://www.kab-wuerzburg.de/aktuelles/termine/kalender/event/153-das-b
 ayerische-personalvertretungsgesetz-baypvg-und-arbeitsrecht-aufbaukurs
END:VEVENT
END:VCALENDAR
