BEGIN:VCALENDAR
VERSION:2.0
PRODID:-//https://www.kab-wuerzburg.de///NONSGML kigkonsult.se iCalcreator 2.10.15//
METHOD:PUBLISH
BEGIN:VEVENT
UID:20260420T194926CEST-9765bxuaXL@https://www.kab-wuerzburg.de/
DTSTAMP:20260420T174926Z
DESCRIPTION:Tanzen entspannt und macht glücklich\, schult das Gedächtnis un
 d steigert das Selbstbewusstsein.Tanzen ist Fitness für Körper\, Geist und
  Seele.Zum Programm des Abends gehören abwechslungsreiche\, gelenkschonend
 e einfache und anspruchsvolle Tänze aus unterschiedlichen Ländern nach tra
 ditioneller und moderner Musik. Gemeinsam und mit viel Freude lernen wir T
 änze im Kreis\, im Block sowie in der Gasse. Es sind keine Vorkenntnisse e
 rforderlich.Referentin: Gaby Walter\, Tanzleiterin des BV ErlebnistanzDie 
 Veranstaltung ist kostenfreiEine Anmeldung ist nicht erforderlich. https:/
 /www.kab-wuerzburg.de/aktuelles/termine/kalender/event/152-lebensfreude-ta
 nken-tanz-einfach-mit
DTSTART:20240306T180000Z
DTEND:20240306T180100Z
LOCATION:Pfarrsaal Christkönig\, Schweinfurt ()
SUMMARY:Lebensfreude tanken - Tanz einfach mit
URL:https://www.kab-wuerzburg.de/aktuelles/termine/kalender/event/152-leben
 sfreude-tanken-tanz-einfach-mit
END:VEVENT
END:VCALENDAR
