BEGIN:VCALENDAR
VERSION:2.0
PRODID:-//https://www.kab-wuerzburg.de///NONSGML kigkonsult.se iCalcreator 2.10.15//
METHOD:PUBLISH
BEGIN:VEVENT
UID:20260420T155817CEST-1285Gpk7nX@https://www.kab-wuerzburg.de/
DTSTAMP:20260420T135817Z
DESCRIPTION:Herzliche Einladung an alle Mitglieder und Freunde der KAB in S
 tadt und Landkreis Aschaffenburg\, die mal wieder zusammen kommen und lang
 jährige KAB-Mitglieder ehren wollen:Wortgottesfeier mit Diakon Ludwig Stau
 nerZeit zur Begegnung bei Kaffee und KuchenImpuls zur aktuellen KAB-Arbeit
  mit Robert ReisertEhrung langjähriger Mitglieder durch Gisela HeimbeckGem
 einschaftlicher AusklangWir freuen uns auf den gemeinsamen Nachmittag!Die 
 Veranstaltung ist kostenfrei (Spenden erwünscht).Um Anmeldung bis 1. März 
 wird gebeten:KAB Gschäftsstelle im MartinushausTel. 06021-392140 - E-Mail:
  kab-aschaffenburg@bistum-wuerzburg.de https://www.kab-wuerzburg.de/aktuel
 les/termine/kalender/event/151-josefsfeier-kab-café
DTSTART:20240308T140000Z
DTEND:20240308T163000Z
LOCATION:Martinushaus Aschaffenburg ()
SUMMARY:Josefsfeier & KAB-Café
URL:https://www.kab-wuerzburg.de/aktuelles/termine/kalender/event/151-josef
 sfeier-kab-café
END:VEVENT
END:VCALENDAR
