BEGIN:VCALENDAR
VERSION:2.0
PRODID:-//https://www.kab-wuerzburg.de///NONSGML kigkonsult.se iCalcreator 2.10.15//
METHOD:PUBLISH
BEGIN:VEVENT
UID:20260420T100901CEST-4611tzdMD8@https://www.kab-wuerzburg.de/
DTSTAMP:20260420T080901Z
DESCRIPTION:Liebe Kolleginnen und Kollegen\,Arbeitsrecht – eine unendliche 
 Geschichte.Viele neue Entscheidungen\, ob vom Bundesarbeitsgericht oder vo
 m Europäischen Gerichtshof\, haben Einfluss auf Eure Arbeit im Betrieb\, i
 n der Dienststelle\, in der Einrichtung oder in der Verwaltung.Einige dies
 er aktuellen Entscheidungen wollen wir besprechen und genauer unter die Lu
 pe nehmen. Als kompetenten Experten konnten wir Herrn Matthias Heese (Fach
 anwalt für Arbeitsrecht) aus Würzburg als Referenten gewinnen.Dies ist ein
 e Schulungsmaßnahme i.S.d. § 37Abs.6 BetrVG\, Art. 46 Abs.5 BayPVG\, § 16 
 MAVO. Dementsprechend ist ein Beschluss des Betriebsrates\, Personalrates\
 , der Mitarbeitervertretung zu fassen und dem Arbeitgeber bzw. Dienstgeber
  mitzuteilen.Anmeldung bis 29.01.2024 per Fax 0931/386-65 320\, E-Mail kab
 @bistum-wuerzburg.de&nbsp\;oder im Internet.Näheres erfahren Sie hier im D
 ownload: https://www.kab-wuerzburg.de/aktuelles/termine/kalender/event/149
 -aktuelles-aus-dem-arbeitsrecht
DTSTART:20240311T080000Z
DTEND:20240311T160000Z
LOCATION:Exerzitienhaus Himmelspforten in Würzburg ()
SUMMARY:Aktuelles aus dem Arbeitsrecht
URL:https://www.kab-wuerzburg.de/aktuelles/termine/kalender/event/149-aktue
 lles-aus-dem-arbeitsrecht
END:VEVENT
END:VCALENDAR
