BEGIN:VCALENDAR
VERSION:2.0
PRODID:-//https://www.kab-wuerzburg.de///NONSGML kigkonsult.se iCalcreator 2.10.15//
METHOD:PUBLISH
BEGIN:VEVENT
UID:20260420T065222CEST-42946THOwr@https://www.kab-wuerzburg.de/
DTSTAMP:20260420T045222Z
DESCRIPTION: https://www.kab-wuerzburg.de/aktuelles/termine/kalender/event/
 148-sitzung-des-kab-festausschusses
DTSTART:20240313T180000Z
DTEND:20240313T200000Z
LOCATION:KAB OV Wasserlos ()
SUMMARY:Sitzung des KAB Festausschusses 
URL:https://www.kab-wuerzburg.de/aktuelles/termine/kalender/event/148-sitzu
 ng-des-kab-festausschusses
END:VEVENT
END:VCALENDAR
