BEGIN:VCALENDAR
VERSION:2.0
PRODID:-//https://www.kab-wuerzburg.de///NONSGML kigkonsult.se iCalcreator 2.10.15//
METHOD:PUBLISH
BEGIN:VEVENT
UID:20260420T033004CEST-1425hAISwv@https://www.kab-wuerzburg.de/
DTSTAMP:20260420T013004Z
DESCRIPTION:Grenzen setzen ist eine Fähigkeit\, die jeder von uns erlernen 
 sollte. Es ist wichtig\, unsere Bedürfnisse und Wünsche zu erkennen und zu
  kommunizieren\, damit wir uns selbst schützen und unser Leben selbstbesti
 mmt gestalten können. Es kann schwierig sein\, Grenzen zu setzen\, aber es
  lohnt sich in jedem Fall.Referentin: Nike KlüberDie Teilnahme an der Bild
 ungsveranstaltung des KAB Bildungswerks ist kostenfrei. Für die Brotzeit (
 Käse- und Wurst) erhebt der Ortsverband 6 Euro. KAB-Mitglieder erhalten 2 
 Euro Nachlass.Zur besseren Planung bitten wir um telefonische Anmeldung bi
 s 01.03.24 bei G. Mai 09720/951929 oder P. Wolz 09720/824 https://www.kab-
 wuerzburg.de/aktuelles/termine/kalender/event/147-grenzen-setzen-ohne-zu-v
 erletzen-frauendinner
DTSTART:20240315T170000Z
DTEND:20240315T170100Z
LOCATION:97532 Üchtelhausen\, Pfarrheim ()
SUMMARY:Grenzen setzen ohne zu verletzen! Frauendinner
URL:https://www.kab-wuerzburg.de/aktuelles/termine/kalender/event/147-grenz
 en-setzen-ohne-zu-verletzen-frauendinner
END:VEVENT
END:VCALENDAR
