BEGIN:VCALENDAR
VERSION:2.0
PRODID:-//https://www.kab-wuerzburg.de///NONSGML kigkonsult.se iCalcreator 2.10.15//
METHOD:PUBLISH
BEGIN:VEVENT
UID:20260419T234647CEST-8515RK88fp@https://www.kab-wuerzburg.de/
DTSTAMP:20260419T214647Z
DESCRIPTION:BILDUNGSWOCHENENDE FÜR FAMILIENJugendliche zwischen elf und sec
 hzehn hausen oft in einem Chaos\, das sie „mein Zimmer“ nennen und tauchen
  dreimal am Tag auf\, um etwas Essbares hinunterzuschlingen und die Famili
 e anzuknurren.Die Pubertät ist eine besondere Lebensphase\, in der sich Ki
 nder zu jungen Erwachsenen entwickeln. Sie ist geprägt von körperlichen Ve
 ränderungen wie Wachstum und von Stimmungsschwankungen.Was können Eltern t
 un\, um in dieser konfliktreichen Phase die Verbindung zu ihren Kindern au
 frechtzuerhalten?Wir freuen uns auf euchAnmeldung bis 16.02.2024&nbsp\;bei
 &nbsp\;KAB-Bildungswerk Diözese Würzburg e.V.Fax an 06021 392-149 oder E-M
 ail kab-aschaffenburg@bistum-wuerzburg.deWeitere Informationen finden Sie 
 hier https://www.kab-wuerzburg.de/aktuelles/termine/kalender/event/146-pub
 ertät\,-oder-wie-umarme-ich-einen-kaktus-bildungswochenende-für-familien
DTSTART:20240315T170000Z
DTEND:20240317T120000Z
LOCATION:Hotel St. Markushof\, Gadheim (Gadheim 19\, 97209 Veitshöchheim)
SUMMARY:Pubertät\, oder wie umarme ich einen Kaktus?  Bildungswochenende fü
 r Familien
URL:https://www.kab-wuerzburg.de/aktuelles/termine/kalender/event/146-puber
 tät,-oder-wie-umarme-ich-einen-kaktus-bildungswochenende-für-familien
END:VEVENT
END:VCALENDAR
