BEGIN:VCALENDAR
VERSION:2.0
PRODID:-//https://www.kab-wuerzburg.de///NONSGML kigkonsult.se iCalcreator 2.10.15//
METHOD:PUBLISH
BEGIN:VEVENT
UID:20260420T013658CEST-4887U94As7@https://www.kab-wuerzburg.de/
DTSTAMP:20260419T233658Z
DESCRIPTION:Gute Weggemeinschaft\, Bewegung in der Natur und geistliche Imp
 ulse -Die KAB Kleinostheim / KAB-Frauen Untermain / Maria 2.0 laden Frauen
  und Männer zum Morgenimpuls ein:Sonnengesang des Heiligen FranziskusTreff
 punkt: Missionskreuz vor der MaingauhalleDie Teilnahme ist kostenfrei. Das
  anschließende Frühstück findet im Alten Kindergarten statt. Anmeldung (da
 mit wir für ausreichend Sitzplätze\, Brötchen und Kaffee sorgen können) be
 i: Heike Franz\, Tel. 06027/5708 (auch auf den Anrufbeantworter sprechen) 
 oder per Mail: franz.h.p@gmx.de https://www.kab-wuerzburg.de/aktuelles/ter
 mine/kalender/event/145-morgenlob-und-morgenröte-sonnengesang
DTSTART:20240316T060000Z
DTEND:20240316T060100Z
LOCATION:KAB OV Kleinostheim ()
SUMMARY:Morgenlob und Morgenröte - Sonnengesang
URL:https://www.kab-wuerzburg.de/aktuelles/termine/kalender/event/145-morge
 nlob-und-morgenröte-sonnengesang
END:VEVENT
END:VCALENDAR
