BEGIN:VCALENDAR
VERSION:2.0
PRODID:-//https://www.kab-wuerzburg.de///NONSGML kigkonsult.se iCalcreator 2.10.15//
METHOD:PUBLISH
BEGIN:VEVENT
UID:20260420T013820CEST-0193SAwxno@https://www.kab-wuerzburg.de/
DTSTAMP:20260419T233820Z
DESCRIPTION:Josefstag – JahreshauptversammlungZur Jahreshauptversammlung de
 r Kleinostheimer KAB sind alle KAB-Mitglieder und Interessierte ganz herzl
 ich eingeladen.Am 19. März ist Josefstag. An diesem Tag denken wir an den 
 Handwerker\, an den Zimmermann Josef. Er gilt deshalb als Schutzpatron der
  Arbeiter und ist damit auch der Patron der Katholischen Arbeitnehmer-Bewe
 gung (KAB). Rund um den Josefstag kommen die KAB-ler stets zu Gottesdienst
 en und Versammlungen zusammen.In diesem Jahr wollen wir uns hierzu am Donn
 erstag\, den 16. März 2023 um 19:45 Uhr im Kindergarten St. Laurentius tre
 ffen und wollen über die weiteren Aktivitäten nachdenken. Wir würden uns s
 ehr freuen\, euch zu dieser Veranstaltung begrüßen zu dürfen. Nicht zuletz
 t zeigen ihr dadurch euer Interesse an der Arbeit in unserem Ortsverband.T
 agesordnung:Begrüßung und ImbissGedenken an die verstorbenen MitgliederImp
 uls von Pfr. Heribert KaufmannProtokoll der letzten Jahreshauptversammlung
  vom 16.3.2023Berichteder Vorstandschaftder Kassiererin / der Kassenprüfer
 Entlastung der Kassiererin und des VorstandsMitglieder-EhrungenJahresplanu
 ng – Termine 2024Verschiedenes – Wünsche – Anregungen – AnträgeAnträge und
  Wünsche zur Jahreshauptversammlung können bis 11.03.2024 bei beiden Vorsi
 tzenden gestellt werden. https://www.kab-wuerzburg.de/aktuelles/termine/ka
 lender/event/142-jahreshauptversammlung-kab-kleinostheim
DTSTART:20240316T180000Z
DTEND:20240316T210000Z
LOCATION:Kindergarten St. Laurentius (Wiesenstraße 9\, 63801 Kleinostheim)
SUMMARY:Jahreshauptversammlung - KAB Kleinostheim
URL:https://www.kab-wuerzburg.de/aktuelles/termine/kalender/event/142-jahre
 shauptversammlung-kab-kleinostheim
END:VEVENT
END:VCALENDAR
