BEGIN:VCALENDAR
VERSION:2.0
PRODID:-//https://www.kab-wuerzburg.de///NONSGML kigkonsult.se iCalcreator 2.10.15//
METHOD:PUBLISH
BEGIN:VEVENT
UID:20260419T235620CEST-2109bUWRCo@https://www.kab-wuerzburg.de/
DTSTAMP:20260419T215620Z
DESCRIPTION:Spielenachmittag mit neuen Ideen und Familien-CaféEingeladen si
 nd Kinder mit ihren Eltern\, Großeltern und Freunden.Mit dabei: Medienpäda
 gogin Cordula Dernbach- sie hat tolle Spiele für uns im Gepäck und erklärt
  sie uns.Es gibt Kaffee\, Kuchen\, Wasser und Limo.Unkostenbeitrag zur Kaf
 feetafel pro Familie: 5 €Anmeldung erwünscht unter:KAB-Bildungswerk Diözes
 e Würzburg e.V.Treibgasse 26 - Aschaffenburg - Tel. 06021-392140E-Mail: ka
 b-aschaffenburg@bistum-wuerzburg.de24-02-12-fly-Neue_Spiele_kennenlernen.p
 df https://www.kab-wuerzburg.de/aktuelles/termine/kalender/event/139-neue-
 spiele-kennenlernen
DTSTART:20240317T113000Z
DTEND:20240317T160000Z
LOCATION:Katakombe Aschaffenburg im Martinushaus (Treibgasse 26\, 63739 Asc
 haffenburg)
SUMMARY:Neue Spiele kennenlernen
URL:https://www.kab-wuerzburg.de/aktuelles/termine/kalender/event/139-neue-
 spiele-kennenlernen
END:VEVENT
END:VCALENDAR
