BEGIN:VCALENDAR
VERSION:2.0
PRODID:-//https://www.kab-wuerzburg.de///NONSGML kigkonsult.se iCalcreator 2.10.15//
METHOD:PUBLISH
BEGIN:VEVENT
UID:20260419T214824CEST-6441o56WUe@https://www.kab-wuerzburg.de/
DTSTAMP:20260419T194824Z
DESCRIPTION:Viele Menschen sind an ihrem Arbeitsplatz Mobbing ausgesetzt. S
 ei es\, dass Kollegen hinter dem Rücken Gerüchte verbreiten\, dass die Che
 fin wichtige Informationen vorenthält oder jede Gelegenheit nutzt\, mit fi
 esen Maßnahmen unter Druck zu setzen. Sei es dass eine Kollegin fortgesetz
 t Nadelstiche setzt oder der Chef Gewalt androht oder gar anwendet.Von Mob
 bing Betroffene leiden oft unter Selbstzweifeln\, Verunsicherung und Ängst
 en\, werden körperlich oder seelisch krank. Sich gegenseitig Rückenstärkun
 g zu geben und ihre Erfahrungen zu teilen\, dafür ist die neue Mobbing-Sel
 bsthilfegruppe gedacht. Zum ersten Treffen am Montag\, 18. März\, um 17:30
  Uhr im Martinushaus\, Treibgasse 26\, in Aschaffenburg sind alle eingelad
 en\, die in Kindererziehungs- und Pflegeeinrichtungen arbeiten und Mobbing
  erfahren (haben). Die KAB-Betriebsseelsorge\, die die Mobbing-Selbsthilfe
 gruppe anbietet\, bittet um Anmeldung (Tel.: 06021 392142 oder E-Mail: mob
 bingberatung@bistum-wuerzburg.de). Dort gibt es auch Informationen zur neu
 en Selbsthilfegruppe und die Möglichkeit einer persönlichen Konflikt- und 
 Mobbingberatung. https://www.kab-wuerzburg.de/aktuelles/termine/kalender/e
 vent/138-selbsthilfegruppe-mobbing
DTSTART:20240318T163000Z
DTEND:20240318T180000Z
LOCATION:Martinushaus Aschaffenburg (Treibgasse 26\, 63739\, Aschaffenburg\
 , Bayern)
SUMMARY:Selbsthilfegruppe Mobbing
URL:https://www.kab-wuerzburg.de/aktuelles/termine/kalender/event/138-selbs
 thilfegruppe-mobbing
END:VEVENT
END:VCALENDAR
