BEGIN:VCALENDAR
VERSION:2.0
PRODID:-//https://www.kab-wuerzburg.de///NONSGML kigkonsult.se iCalcreator 2.10.15//
METHOD:PUBLISH
BEGIN:VEVENT
UID:20260419T214841CEST-9548HKA2c5@https://www.kab-wuerzburg.de/
DTSTAMP:20260419T194841Z
DESCRIPTION:Der provokante Untertitel zum Film: Können wir uns die Reichen 
 leisten? In Kooperation mit dem DGB Hassberge ist ein Filmgespräch geplant
  mit kompetenten Gästen aus Politik und Wirtschaft. Sprechen und diskutier
 en Sie mit uns! Streiten Sie mit uns! Wir freuen uns auf&nbsp\;viele inter
 essierte Besucher!Leistung wird belohnt. In aller Kürze ist das die Basis 
 der Gesellschaft\, aber stimmt dieses Ideal noch? Zunehmend hat es den Ans
 chein\, als gerät das System aus den Fugen\, als würde es sich nicht mehr 
 lohnen zu arbeiten\, ein vages Gefühl\, dem der schwedischeRegisseur Fredr
 ik Gertten in seiner Dokumentation „Breaking Social“ nachgeht.Auf erfreuli
 ch ruhige\, nachdenkliche Weise\, die seinen Film viel interessanter macht
  als wenn er sich auf bloße\, agitatorische Anklage beschränken würde.Ansc
 hließendes Filmgespräch mit:Jonas Schneider\, DGB Büro WürzburgJohanna Bam
 berg-Reinwand\, SPDRudi Reinhart\, KAB/ BetriebsseelsorgerWinfried Wiendl\
 , Dipl. Betr.Wirt / Pflegedank - Stiftung https://www.kab-wuerzburg.de/akt
 uelles/termine/kalender/event/137-breaking-social-können-wir-uns-die-reich
 en-leisten
DTSTART:20240318T183000Z
DTEND:20240318T183100Z
LOCATION:Kino in Zeil a. Main ()
SUMMARY:Breaking social - Können wir uns die Reichen leisten?
URL:https://www.kab-wuerzburg.de/aktuelles/termine/kalender/event/137-break
 ing-social-können-wir-uns-die-reichen-leisten
END:VEVENT
END:VCALENDAR
