BEGIN:VCALENDAR
VERSION:2.0
PRODID:-//https://www.kab-wuerzburg.de///NONSGML kigkonsult.se iCalcreator 2.10.15//
METHOD:PUBLISH
BEGIN:VEVENT
UID:20260419T200009CEST-4940ZPWC9j@https://www.kab-wuerzburg.de/
DTSTAMP:20260419T180009Z
DESCRIPTION:Herzliche Einladung zum Frühstück mit Vortrag 'Am siebten Tage 
 sollst du ruhen'\, der Sonntag als Ruhetag im Spiegel der Geschichte am 19
 . März um 9.00 Uhr im Pfarrsaaal in Ebelsbach.Anhand eines Blickes in die 
 Geschichte soll die Bedeutung des Sonntags in der Vergangenheit bis hin zu
 r Gegenwart beleuchtet werden.Referent: Rudi Reinhart https://www.kab-wuer
 zburg.de/aktuelles/termine/kalender/event/136-am-siebten-tage-sollst-du-ru
 hn
DTSTART:20240319T080000Z
DTEND:20240319T080100Z
LOCATION:KAB OV Ebelsbach ()
SUMMARY:'Am siebten Tage sollst du ruhn'
URL:https://www.kab-wuerzburg.de/aktuelles/termine/kalender/event/136-am-si
 ebten-tage-sollst-du-ruhn
END:VEVENT
END:VCALENDAR
