BEGIN:VCALENDAR
VERSION:2.0
PRODID:-//https://www.kab-wuerzburg.de///NONSGML kigkonsult.se iCalcreator 2.10.15//
METHOD:PUBLISH
BEGIN:VEVENT
UID:20260419T200102CEST-0601ShvwPU@https://www.kab-wuerzburg.de/
DTSTAMP:20260419T180102Z
DESCRIPTION:Die KAB Ortsverbände im Markt Werneck feiern den Josefstag mit 
 einem gemeinsamen Gottesdienst&nbsp\; mit&nbsp\; Pfarrer i. R. Paul Hilber
 t und Präses Peter Hartlaub in der Schlosskirche WerneckAnschließend gesel
 liges Beisammensein im Pfarrzentrum Werneck. https://www.kab-wuerzburg.de/
 aktuelles/termine/kalender/event/135-gemeinsame-feier-des-josefstags-in-we
 rneck
DTSTART:20240319T170000Z
DTEND:20240319T170100Z
LOCATION:KAB OV Werneck (Werneck\, Bayern)
SUMMARY:Gemeinsame Feier des Josefstags in Werneck
URL:https://www.kab-wuerzburg.de/aktuelles/termine/kalender/event/135-gemei
 nsame-feier-des-josefstags-in-werneck
END:VEVENT
END:VCALENDAR
