BEGIN:VCALENDAR
VERSION:2.0
PRODID:-//https://www.kab-wuerzburg.de///NONSGML kigkonsult.se iCalcreator 2.10.15//
METHOD:PUBLISH
BEGIN:VEVENT
UID:20260419T195734CEST-50429eUjEg@https://www.kab-wuerzburg.de/
DTSTAMP:20260419T175734Z
DESCRIPTION:Irgendwo in Afrika - Bilder und Geschichten aus dem Partnerbist
 um Mbinga /TansaniaHerzliche Einladung zur Josefsfeier mit Bildervortrag a
 m 19.03.2024 um 18.30 Uhr in Großheubach.18:30 Uhr: Gottesdienst in der Pf
 arrkirche20:00 Uhr:&nbsp\;Bildvortrag „Irgendwo in Afrika“ im JugendheimDa
 s „Team Tansania“ der KAB informiert über Land und Leute aus dem Partnerbi
 stum Mbinga.&nbsp\;Die Veranstaltung ist kostenfrei. Eine Anmeldung ist ni
 cht erforderlich.Für Imbiss und Getränke ist gesorgt. https://www.kab-wuer
 zburg.de/aktuelles/termine/kalender/event/134-josefstagfeier-mit-bildvortr
 ag
DTSTART:20240319T173000Z
DTEND:20240319T173100Z
LOCATION:KAB OV Großheubach ()
SUMMARY:Josefstagfeier mit Bildvortrag
URL:https://www.kab-wuerzburg.de/aktuelles/termine/kalender/event/134-josef
 stagfeier-mit-bildvortrag
END:VEVENT
END:VCALENDAR
