BEGIN:VCALENDAR
VERSION:2.0
PRODID:-//https://www.kab-wuerzburg.de///NONSGML kigkonsult.se iCalcreator 2.10.15//
METHOD:PUBLISH
BEGIN:VEVENT
UID:20260419T200632CEST-7316AhjOC2@https://www.kab-wuerzburg.de/
DTSTAMP:20260419T180632Z
DESCRIPTION:Herzliche Einladung zur Feier des gemeinsamen Gottesdienstes zu
 m Josefstag.In diesem Jahr werden wir den Gottesdienst anlässlich des Jose
 fstages am Dienstag\, den 19. März mitgestalten.Am 19. März ist Josefstag.
  An diesem Tag denken wir an den Handwerker\, an den Zimmermann Josef. Er 
 gilt deshalb als Schutzpatron der Arbeiter und ist damit auch der Patron d
 er Katholischen Arbeitnehmer-Bewegung (KAB). Rund um den Josefstag kommen 
 die KAB-ler stets zu Gottesdiensten und Versammlungen zusammen. https://ww
 w.kab-wuerzburg.de/aktuelles/termine/kalender/event/133-josefstag-–-gottes
 dienst-kab-kleinostheim
DTSTART:20240319T180000Z
DTEND:20240319T190000Z
LOCATION:Pfarrkirche\, St. Laurentius Kleinostheim (Kirchplatz 2\, 63801 Kl
 einostheim)
SUMMARY:Josefstag – Gottesdienst - KAB Kleinostheim
URL:https://www.kab-wuerzburg.de/aktuelles/termine/kalender/event/133-josef
 stag-–-gottesdienst-kab-kleinostheim
END:VEVENT
END:VCALENDAR
