BEGIN:VCALENDAR
VERSION:2.0
PRODID:-//https://www.kab-wuerzburg.de///NONSGML kigkonsult.se iCalcreator 2.10.15//
METHOD:PUBLISH
BEGIN:VEVENT
UID:20260423T142901CEST-9929DMIulb@https://www.kab-wuerzburg.de/
DTSTAMP:20260423T122901Z
DESCRIPTION:&nbsp\;BILDUNGSWOCHENENDE FÜR FAMILIENMehr Erfolg\, mehr Geld\,
  mehr Freude.Alles Wünsche\, um dem eigentlichen Lebensziel näherzukommen:
  dem Glück.Doch wenn wir einmal glücklich sind\, sind wir trotzdem nicht d
 auerhaft zufrieden. Wir wollen dieses Gefühl wieder und wieder erleben. Ei
 ne wahre Glückssucht.Doch Glück erschöpft sich nicht in Selbstoptimierung 
 als Selbstzweck.An diesem Wochenende wollen wir lernen\, die erlebte Gefüh
 ls- und Bedürfniskultur wertzuschätzen und die eigenen Befindlichkeiten er
 nst zu nehmen.Wir freuen uns auf euchAnmeldung bis 22.03.2024&nbsp\;bei&nb
 sp\;KAB-Bildungswerk Diözese Würzburg e.V.Fax an 06021 392-149 oder E-Mail
  kab-aschaffenburg@bistum-wuerzburg.deWeitere Informationen finden Sie hie
 r https://www.kab-wuerzburg.de/aktuelles/termine/kalender/event/114-ausgeb
 ucht-dem-glück-auf-die-sprünge-helfen-das-geheimnis-der-lebensfreude-bildu
 ngswochenende-für-familien
DTSTART:20240419T160000Z
DTEND:20240421T110000Z
LOCATION:Schullandheim Hobbach (Bayernstraße 2 - 4\, 63863 Eschau-Hobbach)
SUMMARY:AUSGEBUCHT - Dem Glück auf die Sprünge helfen: Das Geheimnis der Le
 bensfreude  - Bildungswochenende für Familien
URL:https://www.kab-wuerzburg.de/aktuelles/termine/kalender/event/114-ausge
 bucht-dem-glück-auf-die-sprünge-helfen-das-geheimnis-der-lebensfreude-bild
 ungswochenende-für-familien
END:VEVENT
END:VCALENDAR
