BEGIN:VCALENDAR
VERSION:2.0
PRODID:-//https://www.kab-wuerzburg.de///NONSGML kigkonsult.se iCalcreator 2.10.15//
METHOD:PUBLISH
BEGIN:VEVENT
UID:20260423T142011CEST-9862LFZkuZ@https://www.kab-wuerzburg.de/
DTSTAMP:20260423T122011Z
DESCRIPTION:Herzliche Einladung zur Jahreshauptversammlung im Pfarrzentrum 
 Werneck.Wir werden auf die vergangene Jahr zurückblicken und die Zukunft d
 er Ortsverbände im Markt Werneck in den Blick nehmen.&nbsp\;Tagesordnung:B
 egrüßung\, Eröffnung\, Feststellung der TagesordnungGeistliches WortWir ge
 denken unserer verstorbenen MitgliederRückblickKassenberichtBericht der Re
 visoren\, Entlastung der Vorstandschaft und der KassiererinEhrungen der Ju
 bilareWege in die ZukunftInfos aus dem Diözesanverband und aus dem Stadt- 
 u. KreisverbandAusblickWünsche und Anträge https://www.kab-wuerzburg.de/ak
 tuelles/termine/kalender/event/113-jahreshauptversammlung-der-kab-werneck
DTSTART:20240419T173000Z
DTEND:20240419T173100Z
LOCATION:KAB OV Werneck (Werneck\, Bayern)
SUMMARY:Jahreshauptversammlung der KAB Werneck
URL:https://www.kab-wuerzburg.de/aktuelles/termine/kalender/event/113-jahre
 shauptversammlung-der-kab-werneck
END:VEVENT
END:VCALENDAR
