BEGIN:VCALENDAR
VERSION:2.0
PRODID:-//https://www.kab-wuerzburg.de///NONSGML kigkonsult.se iCalcreator 2.10.15//
METHOD:PUBLISH
BEGIN:VEVENT
UID:20260423T155804CEST-7334vCsP1v@https://www.kab-wuerzburg.de/
DTSTAMP:20260423T135804Z
DESCRIPTION: https://www.kab-wuerzburg.de/aktuelles/termine/kalender/event/
 107-kleidersammlung-der-kab-ortsverbände
DTSTART:20240427T060000Z
DTEND:20240427T100000Z
LOCATION:KAB OV Wasserlos ()
SUMMARY:Kleidersammlung der KAB Ortsverbände
URL:https://www.kab-wuerzburg.de/aktuelles/termine/kalender/event/107-kleid
 ersammlung-der-kab-ortsverbände
END:VEVENT
END:VCALENDAR
