BEGIN:VCALENDAR
VERSION:2.0
PRODID:-//https://www.kab-wuerzburg.de///NONSGML kigkonsult.se iCalcreator 2.10.15//
METHOD:PUBLISH
BEGIN:VEVENT
UID:20260420T153620CEST-5555kJnabZ@https://www.kab-wuerzburg.de/
DTSTAMP:20260420T133620Z
DESCRIPTION:Die Führung wurde aufgrund der aktuellen Lage abgesagt!Herzlich
 e Einladung zur Führung im jüdischen Friedhof in Schwanfeld. Die Geschicht
 e der jüdischen Bevölkerung in Schwanfeld geht weit zurück. Der gut erhalt
 ene jüdische Friedhof mit seinen Besonderheiten erinnert heute noch daran.
  Wir erfahren bei der Führung Wissenswertes über über den jüdischen Glaube
 n\, die Bestattungskultur und über die jüdischen Familien\, die im Ort gel
 ebt haben.&nbsp\;Treffpunkt zur Führung ist am 25. 10. um 15.00 Uhr am jüd
 ischen Friedhof in Schwanfeld.Parken: Man kann auf dem Feldweg (Ludwig-Gut
 mann-Weg) bis zum jüdischen Friedhof fahren und direkt am Friedhof auf der
  Wiese parken. Allerdings könnte der Weg bei nassem Wetter auch matschig s
 ein. Wer gut zu Fuß ist\, kann auf dem Parkplatz an der Schule (Schulstraß
 e) parken und von dort (über Obereisenheimer Str.\, Ludwig-Gutmann-Weg) zu
 m Friedhof laufen.(ca.1 km)Bitte feste - bei feuchtem Wetter - wasserdicht
 e Schuhe tragen!Es gelten die aktuellen Regelungen zum Schutz vor Corona.M
 und- und Nasenbedeckung nicht vergessen!Wir versuchen kurzfristig\, wenn e
 s die aktuelle Lage zulässt\, eine Möglichkeit zur anschließenden Einkehr 
 zu finden. (Bitte bei der Anmeldung mit angeben.)Info und Anmeldung bis Fr
 eitag\, 23.10.2020\, bei Karin Maul Tel. 09722/2806 oder Susanne Tonn Tel.
 09722/7999 (Die Teilnehmerzahl ist begrenzt.) https://www.kab-wuerzburg.de
 /aktuelles/termine/event/806-abgesagt-der-jüdische-friedhof-in-schwanfeld
DTSTART:20201025T140000Z
DTEND:20201025T140100Z
LOCATION:KAB OV Werneck (Werneck\, Bayern)
SUMMARY:ABGESAGT! Der jüdische Friedhof in Schwanfeld
URL:https://www.kab-wuerzburg.de/aktuelles/termine/event/806-abgesagt-der-j
 üdische-friedhof-in-schwanfeld
END:VEVENT
END:VCALENDAR
