BEGIN:VCALENDAR
VERSION:2.0
PRODID:-//https://www.kab-wuerzburg.de///NONSGML kigkonsult.se iCalcreator 2.10.15//
METHOD:PUBLISH
BEGIN:VEVENT
UID:20260422T071600CEST-2288PfzVAt@https://www.kab-wuerzburg.de/
DTSTAMP:20260422T051600Z
DESCRIPTION:Homepageschulung für ehrenamtliche Administratoren zum Einstieg
  in die Homepagepflege in Joomla.Wir zeigen Ihnen in einfachen Schritten w
 ie Sie die Unterseite Ihres Ortsverbandes in der Rubrik 'KAB vor Ort' mit 
 Inhalten füllen und wie Sie Ihre Veranstaltungen und Nachrichten einarbeit
 en können.Die Schulung findet statt:am Montag\, 13.März 2023 von 19 bis ca
 . 21 Uhr im +plus.punkt\, Schultesstraße21 in SchweinfurtReferentin: Susan
 ne Tonn (Homepageverantwortliche OV Werneck und Stadt-und Kreisverband Sch
 weinfurt)Bitte bringen Sie Ihren Laptop mit!Wir bitten um verbindliche Anm
 eldung bis 06. März 2022an susanne.tonn@kab-wuerzburg.de https://www.kab-w
 uerzburg.de/aktuelles/termine/event/364-homepageschulung
DTSTART:20230313T180000Z
DTEND:20230313T200000Z
LOCATION:+plus.punkt Schweinfurt (Schultesstr. 21\, 9721 Schweinfurt)
SUMMARY:Homepageschulung 
URL:https://www.kab-wuerzburg.de/aktuelles/termine/event/364-homepageschulu
 ng
END:VEVENT
END:VCALENDAR
