BEGIN:VCALENDAR
VERSION:2.0
PRODID:-//https://www.kab-wuerzburg.de///NONSGML kigkonsult.se iCalcreator 2.10.15//
METHOD:PUBLISH
BEGIN:VEVENT
UID:20260420T111253CEST-1748kRmrJR@https://www.kab-wuerzburg.de/
DTSTAMP:20260420T091253Z
DESCRIPTION:Was macht eine Gesellschaft glücklich? Und welchen Anteil haben
  Frauen* daran?&nbsp\;'Wenn Glück politisch wird – Frauen\, Gesellschaft u
 nd die Frage nach dem guten Leben'\nEine Kooperationsveranstaltung des Fra
 uenbündnisses zum Internationalen Frauentag 2026\nVortrag von Annegret Bra
 un\,Lach-Yoga mit Ursula Lux\,Märchenzeit und „Kaffeeklatsch – reloaded'\n
 Teilnahmepauschale: 7 Euro (inkl. Kaffee/Kuchen)\nAnmeldung und Infos: www
 .frankenwarte.de https://www.kab-wuerzburg.de/aktuelles/termine/event/1348
 -eine-stunde-glück-internationaler-frauentag-2026
DTSTART:20260308T140000Z
DTEND:20260308T170000Z
LOCATION:Domschule Würzburg (Am Bruderhof 1\, 97070 Würzburg)
SUMMARY:Eine Stunde Glück - Internationaler Frauentag 2026
URL:https://www.kab-wuerzburg.de/aktuelles/termine/event/1348-eine-stunde-g
 lück-internationaler-frauentag-2026
END:VEVENT
END:VCALENDAR
