BEGIN:VCALENDAR
VERSION:2.0
PRODID:-//https://www.kab-wuerzburg.de///NONSGML kigkonsult.se iCalcreator 2.10.15//
METHOD:PUBLISH
BEGIN:VEVENT
UID:20260424T112046CEST-9760WJhzN7@https://www.kab-wuerzburg.de/
DTSTAMP:20260424T092046Z
DESCRIPTION: https://www.kab-wuerzburg.de/aktuelles/termine/event/1321-kath
 olikentag-in-würzburg
DTSTART:20260513T080000Z
DTEND:20260517T190000Z
LOCATION:KAB OV Lengfeld (Pilziggrundstraße 39\, 97076\, Würzburg\, Lengfel
 d\, Bayern)
SUMMARY:Katholikentag in Würzburg
URL:https://www.kab-wuerzburg.de/aktuelles/termine/event/1321-katholikentag
 -in-würzburg
END:VEVENT
END:VCALENDAR
